BEGIN:VCALENDAR
VERSION:2.0
PRODID:-//jEvents 2.0 for Joomla//EN
CALSCALE:GREGORIAN
METHOD:PUBLISH
BEGIN:VEVENT
UID:f0505e3efc3cc024da67816fd2a1e3c9
CATEGORIES:Ham Radio Events
CREATED:20230702T022545
SUMMARY:Ohio QSO Party
DESCRIPTION:<p>https://www.ohqp.org/</p><p> </p><p> </p>
DTSTAMP:20260420T200126
DTSTART;TZID=America/Phoenix:20230826T160000
DTEND;TZID=America/Phoenix:20230827T040000
SEQUENCE:0
TRANSP:OPAQUE
END:VEVENT
END:VCALENDAR