BEGIN:VCALENDAR
VERSION:2.0
PRODID:-//jEvents 2.0 for Joomla//EN
CALSCALE:GREGORIAN
METHOD:PUBLISH
BEGIN:VEVENT
UID:d065393f0e47a8d92fd86a23f283cb69
CATEGORIES:Ham Radio Events
CREATED:20230702T031357
SUMMARY:Kansas QSO Party
DESCRIPTION:https://ksqsoparty.org/\n \n \n
X-ALT-DESC;FMTTYPE=text/html:<p>https://ksqsoparty.org/</p><p> </p><p> </p>
DTSTAMP:20260420T195752
DTSTART;TZID=America/Phoenix:20230827T140000
DTEND;TZID=America/Phoenix:20230827T200000
SEQUENCE:0
TRANSP:OPAQUE
END:VEVENT
END:VCALENDAR