BEGIN:VCALENDAR
VERSION:2.0
PRODID:-//jEvents 2.0 for Joomla//EN
CALSCALE:GREGORIAN
METHOD:PUBLISH
BEGIN:VEVENT
UID:74ea95ec8b9533560ebf235b490dcf03
CATEGORIES:Ham Radio Events
CREATED:20230702T031628
SUMMARY:Colorado QSO Party
DESCRIPTION:http://ppraa.org/coqp\n\n \n
X-ALT-DESC;FMTTYPE=text/html:<p>http://ppraa.org/coqp</p><p></p><p> </p>
DTSTAMP:20260421T005638
DTSTART;TZID=America/Phoenix:20230902T120000
DTEND;TZID=America/Phoenix:20230903T030000
SEQUENCE:0
TRANSP:OPAQUE
END:VEVENT
END:VCALENDAR