BEGIN:VCALENDAR
VERSION:2.0
PRODID:-//jEvents 2.0 for Joomla//EN
CALSCALE:GREGORIAN
METHOD:PUBLISH
BEGIN:VEVENT
UID:889b10e2c0801c9a2168897913f949c0
CATEGORIES:Ham Radio Events
CREATED:20230702T031730
SUMMARY:Tennessee QSO Party
DESCRIPTION:https://tnqp.org/\n\n \n
X-ALT-DESC;FMTTYPE=text/html:<p>https://tnqp.org/</p><p></p><p> </p>
DTSTAMP:20260421T025257
DTSTART;TZID=America/Phoenix:20230903T180000
DTEND;TZID=America/Phoenix:20230904T030000
SEQUENCE:0
TRANSP:OPAQUE
END:VEVENT
END:VCALENDAR