BEGIN:VCALENDAR
VERSION:2.0
PRODID:-//jEvents 2.0 for Joomla//EN
CALSCALE:GREGORIAN
METHOD:PUBLISH
BEGIN:VEVENT
UID:1c644c9aba53a791accb3573fa27bcaa
CATEGORIES:Ham Radio Events
CREATED:20230702T051856
SUMMARY:ARRL November Sweepstakes - Phone
DESCRIPTION:http://www.arrl.org/sweepstakes\n\n \n
X-ALT-DESC;FMTTYPE=text/html:<p>http://www.arrl.org/sweepstakes</p><p></p><p> </p>
DTSTAMP:20260421T073152
DTSTART;TZID=America/Phoenix:20231118T210000
DTEND;TZID=America/Phoenix:20231120T025900
SEQUENCE:0
TRANSP:OPAQUE
END:VEVENT
END:VCALENDAR