BEGIN:VCALENDAR
VERSION:2.0
PRODID:-//jEvents 2.0 for Joomla//EN
CALSCALE:GREGORIAN
METHOD:PUBLISH
BEGIN:VEVENT
UID:e89636783ffa35e644789df1c71f0e43
CATEGORIES:Ham Radio Events, SMARC Club Events
CREATED:20230702T053046
SUMMARY:Flagstaff Hamfest
LOCATION:Sinagua Middle School\, 3950 E Butler\, Flagstaff\, AZ.
DESCRIPTION:FlagstaffHamFest.org\n \n\n \n
X-ALT-DESC;FMTTYPE=text/html:<p>FlagstaffHamFest.org</p><p> </p><p></p><p> </p>
CONTACT:This email address is being protected from spambots. You need JavaScript enabled to view it.
DTSTAMP:20260420T162050
DTSTART;TZID=America/Phoenix:20230715T140000
DTEND;TZID=America/Phoenix:20230715T220000
SEQUENCE:0
TRANSP:OPAQUE
END:VEVENT
END:VCALENDAR