BEGIN:VCALENDAR
VERSION:2.0
PRODID:-//jEvents 2.0 for Joomla//EN
CALSCALE:GREGORIAN
METHOD:PUBLISH
BEGIN:VEVENT
UID:e07ae65b2e5ad6070e4213ed90aa59c1
CATEGORIES:Ham Radio Events, SMARC Club Events
CREATED:20230702T053358
SUMMARY:Amateur Radio Tailgate Show Low
LOCATION:Show Low Masonic White River Lodge #62\, 74L E. Whipple Street\, Show Low\,
  AZ
DESCRIPTION:
CONTACT:This email address is being protected from spambots. You need JavaScript enabled to view it.
DTSTAMP:20260421T005639
DTSTART;TZID=America/Phoenix:20230916T140000
DTEND;TZID=America/Phoenix:20230916T190000
SEQUENCE:0
TRANSP:OPAQUE
END:VEVENT
END:VCALENDAR