BEGIN:VCALENDAR
VERSION:2.0
PRODID:-//jEvents 2.0 for Joomla//EN
CALSCALE:GREGORIAN
METHOD:PUBLISH
BEGIN:VEVENT
UID:1f8ef9a305ee1e319e6de431587e2862
CATEGORIES:Ham Radio Events, SMARC Club Events
CREATED:20230702T053625
SUMMARY:“HARKFest” Tailgate Hamfest
LOCATION:Redeemer Lutheran Church Annex\, 470 Rose Lane\, Wickenburg\, AZ 85390
DESCRIPTION:<p>HARKaz.org</p><p></p><p> </p>
CONTACT:Duane, KD0KYK: This email address is being protected from spambots. You need JavaScript enabled to view it.
DTSTAMP:20260421T005949
DTSTART;TZID=America/Phoenix:20231104T150000
DTEND;TZID=America/Phoenix:20231104T190000
SEQUENCE:0
TRANSP:OPAQUE
END:VEVENT
END:VCALENDAR