BEGIN:VCALENDAR
VERSION:2.0
PRODID:-//jEvents 2.0 for Joomla//EN
CALSCALE:GREGORIAN
METHOD:PUBLISH
BEGIN:VEVENT
UID:4ec1002799a183b23ade9131c8d67a82
CATEGORIES:Ham Radio Events
CREATED:20230702T002445
SUMMARY:North American QSO Party - SSB
DESCRIPTION:<p><a href="https://www.arrl.org/iaru-hf-world-championship" target="_blank
 " rel="noopener">https://ncjweb.com/naqp/</a></p>
DTSTAMP:20260420T195915
DTSTART;TZID=America/Phoenix:20230819T180000
DTEND;TZID=America/Phoenix:20230820T055900
SEQUENCE:0
TRANSP:OPAQUE
END:VEVENT
END:VCALENDAR