BEGIN:VCALENDAR
VERSION:2.0
PRODID:-//jEvents 2.0 for Joomla//EN
CALSCALE:GREGORIAN
METHOD:PUBLISH
BEGIN:VEVENT
UID:b00e60c27b8ff8e2b6ee83422b3ca0d1
CATEGORIES:Ham Radio Events
CREATED:20230805T183736
SUMMARY:Worldwide Sideband Activity Contest
DESCRIPTION:https://wwsac.com/rules.html\n
X-ALT-DESC;FMTTYPE=text/html:<p>https://wwsac.com/rules.html</p>
DTSTAMP:20260420T162206
DTSTART;TZID=America/Phoenix:20230808T010000
DTEND;TZID=America/Phoenix:20230808T015900
SEQUENCE:0
TRANSP:OPAQUE
END:VEVENT
END:VCALENDAR