BEGIN:VCALENDAR
VERSION:2.0
PRODID:-//jEvents 2.0 for Joomla//EN
CALSCALE:GREGORIAN
METHOD:PUBLISH
BEGIN:VEVENT
UID:d8825c2cfd9a40c7ac57e7d01b79623c
CATEGORIES:Ham Radio Events
CREATED:20230805T184105
SUMMARY:NAQCC CW Sprint
DESCRIPTION:http://naqcc.info/sprint_rules.html\n
X-ALT-DESC;FMTTYPE=text/html:<p>http://naqcc.info/sprint_rules.html</p>
DTSTAMP:20260420T213234
DTSTART;TZID=America/Phoenix:20230809T003000
DTEND;TZID=America/Phoenix:20230809T023000
SEQUENCE:0
TRANSP:OPAQUE
END:VEVENT
END:VCALENDAR