BEGIN:VCALENDAR
VERSION:2.0
PRODID:-//jEvents 2.0 for Joomla//EN
CALSCALE:GREGORIAN
METHOD:PUBLISH
BEGIN:VEVENT
UID:6d6600aeb23010ba19704ec15cfb97d1
CATEGORIES:Ham Radio Events
CREATED:20231012T215702
SUMMARY:AZ QSO Party
DESCRIPTION:http://www.azqp.org/ (http://www.azqp.org/)\n
X-ALT-DESC;FMTTYPE=text/html:<p><a href="http://www.azqp.org/">http://www.azqp.org/</a></p>
DTSTAMP:20260421T055446
DTSTART;TZID=America/Phoenix:20231014T150000
DTEND;TZID=America/Phoenix:20231015T050000
SEQUENCE:0
TRANSP:OPAQUE
END:VEVENT
END:VCALENDAR