BEGIN:VCALENDAR
VERSION:2.0
PRODID:-//jEvents 2.0 for Joomla//EN
CALSCALE:GREGORIAN
METHOD:PUBLISH
BEGIN:VEVENT
UID:f9045374d697f4205b7a5adbc69f3d65
CATEGORIES:Ham Radio Events
CREATED:20231104T200107
SUMMARY:Tucson Hamfest
LOCATION:Marana Middle School\, 11285 W Grier Road\, Marana\, AZ
DESCRIPTION:http://www.arca-az.org/main/calendar.html\n
X-ALT-DESC;FMTTYPE=text/html:<p>http://www.arca-az.org/main/calendar.html</p>
DTSTAMP:20260421T074122
DTSTART;TZID=America/Phoenix:20231111T140000
DTEND;TZID=America/Phoenix:20231111T200000
SEQUENCE:0
TRANSP:OPAQUE
END:VEVENT
END:VCALENDAR