BEGIN:VCALENDAR
VERSION:2.0
PRODID:-//jEvents 2.0 for Joomla//EN
CALSCALE:GREGORIAN
METHOD:PUBLISH
BEGIN:VEVENT
UID:96be611263a9460d4b82e52f9450c226
CATEGORIES:Ham Radio Events
CREATED:20231104T200516
SUMMARY:Thunderbird Hamfest and Electronics Swap Meet
LOCATION:Haven Church\, 5902 W Cactus Road\, Glendale\, AZ
DESCRIPTION:http://www.tbirdfest.org/\n
X-ALT-DESC;FMTTYPE=text/html:<p>http://www.tbirdfest.org/</p>
DTSTAMP:20260420T081034
DTSTART;TZID=America/Phoenix:20240113T150000
DTEND;TZID=America/Phoenix:20240113T190000
SEQUENCE:0
TRANSP:OPAQUE
END:VEVENT
END:VCALENDAR