BEGIN:VCALENDAR
VERSION:2.0
PRODID:-//jEvents 2.0 for Joomla//EN
CALSCALE:GREGORIAN
METHOD:PUBLISH
BEGIN:VEVENT
UID:e0b86effcf863d8bb999a9566496465b
CATEGORIES:Ham Radio Events
CREATED:20231104T200917
SUMMARY:Scottsdale SpringFest
LOCATION:Fender Parking Lot\, 17705 N Pacesetter Way\, Scottsdale\, AZ
DESCRIPTION:http://www.scottsdalearc.org/\n
X-ALT-DESC;FMTTYPE=text/html:<p>http://www.scottsdalearc.org/</p>
DTSTAMP:20260420T081620
DTSTART;TZID=America/Phoenix:20240316T070000
DTEND;TZID=America/Phoenix:20240317T065959
SEQUENCE:0
TRANSP:OPAQUE
END:VEVENT
END:VCALENDAR