BEGIN:VCALENDAR
VERSION:2.0
PRODID:-//jEvents 2.0 for Joomla//EN
CALSCALE:GREGORIAN
METHOD:PUBLISH
BEGIN:VEVENT
UID:95202df4a9effa806f3ff3aa4be5272d
CATEGORIES:SMARC Club Events
CREATED:20240106T160948
SUMMARY:SMARC Breakfast
LOCATION:Perkins Restaurant &amp; Bakery\, 2250 AZ-95\, Bullhead City\, AZ 86442
DESCRIPTION:<p>Members of the Spirit Mountain Amateur Radio Club and guests are invited
  to join face-to-face for our first club breakfast at Perkins Restaurant an
 d Bakery on Saturday January 6th at 8am MST.</p>
CONTACT:This email address is being protected from spambots. You need JavaScript enabled to view it.
DTSTAMP:20260420T150219
DTSTART;TZID=America/Phoenix:20240106T150000
DTEND;TZID=America/Phoenix:20240106T163000
SEQUENCE:0
TRANSP:OPAQUE
END:VEVENT
END:VCALENDAR