BEGIN:VCALENDAR
VERSION:2.0
PRODID:-//jEvents 2.0 for Joomla//EN
CALSCALE:GREGORIAN
METHOD:PUBLISH
BEGIN:VEVENT
UID:8627fee6b0ea407326cafb3d6aae6ed4
CATEGORIES:Ham Radio Events
CREATED:20240603T145821
SUMMARY:ARRL June VHF Contest
DESCRIPTION:<p>https://www.arrl.org/june-vhf</p>
DTSTAMP:20260420T122810
DTSTART;TZID=America/Phoenix:20240608T110000
DTEND;TZID=America/Phoenix:20240609T195900
SEQUENCE:0
TRANSP:OPAQUE
END:VEVENT
END:VCALENDAR