BEGIN:VCALENDAR
VERSION:2.0
PRODID:-//jEvents 2.0 for Joomla//EN
CALSCALE:GREGORIAN
METHOD:PUBLISH
BEGIN:VEVENT
UID:8f0a327e9004c91e104b59d73b850228
CATEGORIES:Ham Radio Events
CREATED:20240603T150605
SUMMARY:ARRL Kids Day
DESCRIPTION:http://www.arrl.org/kids-day\n
X-ALT-DESC;FMTTYPE=text/html:<p>http://www.arrl.org/kids-day</p>
DTSTAMP:20260420T080931
DTSTART;TZID=America/Phoenix:20240615T110000
DTEND;TZID=America/Phoenix:20240615T165900
SEQUENCE:0
TRANSP:OPAQUE
END:VEVENT
END:VCALENDAR