BEGIN:VCALENDAR
VERSION:2.0
PRODID:-//jEvents 2.0 for Joomla//EN
CALSCALE:GREGORIAN
METHOD:PUBLISH
BEGIN:VEVENT
UID:a32868a75a2a9498233a398e7d372e03
CATEGORIES:Ham Radio Events, SMARC Club Events
CREATED:20240603T150857
SUMMARY:ARRL Field Day
DESCRIPTION:http://www.arrl.org/field-day\n
X-ALT-DESC;FMTTYPE=text/html:<p>http://www.arrl.org/field-day</p>
DTSTAMP:20260420T080927
DTSTART;TZID=America/Phoenix:20240622T110000
DTEND;TZID=America/Phoenix:20240623T140000
SEQUENCE:0
TRANSP:OPAQUE
END:VEVENT
END:VCALENDAR